BEGIN:VCALENDAR
VERSION:2.0
PRODID:-//Academic Foundations Center - ECPv6.7.0//NONSGML v1.0//EN
CALSCALE:GREGORIAN
METHOD:PUBLISH
X-WR-CALNAME:Academic Foundations Center
X-ORIGINAL-URL:https://afc.newark.rutgers.edu
X-WR-CALDESC:Events for Academic Foundations Center
REFRESH-INTERVAL;VALUE=DURATION:PT1H
X-Robots-Tag:noindex
X-PUBLISHED-TTL:PT1H
BEGIN:VTIMEZONE
TZID:UTC
BEGIN:STANDARD
TZOFFSETFROM:+0000
TZOFFSETTO:+0000
TZNAME:UTC
DTSTART:20250101T000000
END:STANDARD
END:VTIMEZONE
BEGIN:VEVENT
DTSTART;TZID=UTC:20250312T023000
DTEND;TZID=UTC:20250312T035000
DTSTAMP:20260421T184858
CREATED:20250129T222449Z
LAST-MODIFIED:20250305T201632Z
UID:1933-1741746600-1741751400@afc.newark.rutgers.edu
SUMMARY:SSS Transform Your Goals with Landing on Purpose: Workshop Series
DESCRIPTION:Join SSS for an inspiring 4-step workshop series to turn your academic and professional dreams into reality. This transformative series will empower you to: \nMODULE 2- Message Mapping: Leverage your Goals \n✅ Uncover Your Unique Story – Leverage your experiences as a powerful tool for academic and personal growth. \n✅ Develop a Strategic Action Plan – Set clear goals and thrive in your social and learning communities. \n✅ Make Mission-Driven Decisions – Align your values with your passions\, craft a personal mission statement\, and make career and academic choices that reflect your purpose.
URL:https://afc.newark.rutgers.edu/event/sss-transform-your-goals-with-landing-on-purpose-workshop-series-2/
LOCATION:110 Warren Street\, Room 148\, 110 Warren Street\, Newark\, NJ\, 07102\, United States
ORGANIZER;CN="Student Support Services":MAILTO:samanthadowhankerson@afc.rutgers.edu
END:VEVENT
END:VCALENDAR