BEGIN:VCALENDAR
VERSION:2.0
PRODID:-//Academic Foundations Center - ECPv6.7.0//NONSGML v1.0//EN
CALSCALE:GREGORIAN
METHOD:PUBLISH
X-WR-CALNAME:Academic Foundations Center
X-ORIGINAL-URL:https://afc.newark.rutgers.edu
X-WR-CALDESC:Events for Academic Foundations Center
REFRESH-INTERVAL;VALUE=DURATION:PT1H
X-Robots-Tag:noindex
X-PUBLISHED-TTL:PT1H
BEGIN:VTIMEZONE
TZID:UTC
BEGIN:STANDARD
TZOFFSETFROM:+0000
TZOFFSETTO:+0000
TZNAME:UTC
DTSTART:20240101T000000
END:STANDARD
END:VTIMEZONE
BEGIN:VEVENT
DTSTART;TZID=UTC:20240228T143000
DTEND;TZID=UTC:20240228T160000
DTSTAMP:20260421T161424
CREATED:20240222T191229Z
LAST-MODIFIED:20240222T191229Z
UID:1511-1709130600-1709136000@afc.newark.rutgers.edu
SUMMARY:SSS Breaking High School Habits to Thrive in College Classrooms
DESCRIPTION:Are you tired of struggling with bad study habits? Do you want to excel in college and unlock your full potential? \nJoin us and embark on a journey to develop effective study techniques and thrive academically!\nWe’re here to provide you with the resources/support you need to succeed and will guide you through proven strategies to enhance your learning experience and achieve your goals. \nBy participating in our workshop\, you’ll learn valuable skills that will not only improve your academic performance but also prepare you for success in your future endeavors. Attendance counts as participation for the Spring Semester. Click here to register for the event. \nDate: 2/28/24\nTime: 2:30 – 3:50 pm\nLocation: Hill Hall Rm 105 \nWe look forward to seeing you there!
URL:https://afc.newark.rutgers.edu/event/sss-breaking-high-school-habits-to-thrive-in-college-classrooms/
LOCATION:Hill 105
END:VEVENT
END:VCALENDAR