BEGIN:VCALENDAR
VERSION:2.0
PRODID:-//Academic Foundations Center - ECPv6.7.0//NONSGML v1.0//EN
CALSCALE:GREGORIAN
METHOD:PUBLISH
X-WR-CALNAME:Academic Foundations Center
X-ORIGINAL-URL:https://afc.newark.rutgers.edu
X-WR-CALDESC:Events for Academic Foundations Center
REFRESH-INTERVAL;VALUE=DURATION:PT1H
X-Robots-Tag:noindex
X-PUBLISHED-TTL:PT1H
BEGIN:VTIMEZONE
TZID:UTC
BEGIN:STANDARD
TZOFFSETFROM:+0000
TZOFFSETTO:+0000
TZNAME:UTC
DTSTART:20240101T000000
END:STANDARD
END:VTIMEZONE
BEGIN:VEVENT
DTSTART;TZID=UTC:20240226T113000
DTEND;TZID=UTC:20240226T130000
DTSTAMP:20260420T021823
CREATED:20240129T024339Z
LAST-MODIFIED:20240220T191541Z
UID:1330-1708947000-1708952400@afc.newark.rutgers.edu
SUMMARY:Sophomore and Junior Focused: Strengths and Career Planning
DESCRIPTION:
URL:https://afc.newark.rutgers.edu/event/strengths-and-career-planning/
LOCATION:Engelhard 211
CATEGORIES:EOF Event
END:VEVENT
END:VCALENDAR