BEGIN:VCALENDAR
VERSION:2.0
PRODID:-//Academic Foundations Center - ECPv6.7.0//NONSGML v1.0//EN
CALSCALE:GREGORIAN
METHOD:PUBLISH
X-WR-CALNAME:Academic Foundations Center
X-ORIGINAL-URL:https://afc.newark.rutgers.edu
X-WR-CALDESC:Events for Academic Foundations Center
REFRESH-INTERVAL;VALUE=DURATION:PT1H
X-Robots-Tag:noindex
X-PUBLISHED-TTL:PT1H
BEGIN:VTIMEZONE
TZID:America/New_York
BEGIN:DAYLIGHT
TZOFFSETFROM:-0500
TZOFFSETTO:-0400
TZNAME:EDT
DTSTART:20250309T070000
END:DAYLIGHT
BEGIN:STANDARD
TZOFFSETFROM:-0400
TZOFFSETTO:-0500
TZNAME:EST
DTSTART:20251102T060000
END:STANDARD
TZID:UTC
BEGIN:STANDARD
TZOFFSETFROM:+0000
TZOFFSETTO:+0000
TZNAME:UTC
DTSTART:20240101T000000
END:STANDARD
TZID:America/New_York
BEGIN:DAYLIGHT
TZOFFSETFROM:-0500
TZOFFSETTO:-0400
TZNAME:EDT
DTSTART:20240310T070000
END:DAYLIGHT
BEGIN:STANDARD
TZOFFSETFROM:-0400
TZOFFSETTO:-0500
TZNAME:EST
DTSTART:20241103T060000
END:STANDARD
BEGIN:DAYLIGHT
TZOFFSETFROM:-0500
TZOFFSETTO:-0400
TZNAME:EDT
DTSTART:20250309T070000
END:DAYLIGHT
BEGIN:STANDARD
TZOFFSETFROM:-0400
TZOFFSETTO:-0500
TZNAME:EST
DTSTART:20251102T060000
END:STANDARD
END:VTIMEZONE
BEGIN:VEVENT
DTSTART;TZID=America/New_York:20250212T120000
DTEND;TZID=America/New_York:20250212T160000
DTSTAMP:20260421T031716
CREATED:20250122T150016Z
LAST-MODIFIED:20250122T150016Z
UID:1853-1739361600-1739376000@afc.newark.rutgers.edu
SUMMARY:EOF - Student Reunion
DESCRIPTION:
URL:https://afc.newark.rutgers.edu/event/eof-student-reunion-2/
LOCATION:PRCC Essex Room
CATEGORIES:Student Reunion
END:VEVENT
BEGIN:VEVENT
DTSTART;TZID=UTC:20250212T120000
DTEND;TZID=UTC:20250212T140000
DTSTAMP:20260421T031716
CREATED:20250206T152119Z
LAST-MODIFIED:20250305T202003Z
UID:1976-1739361600-1739368800@afc.newark.rutgers.edu
SUMMARY:McNair - McNair Scholar Program Meeting
DESCRIPTION:
URL:https://afc.newark.rutgers.edu/event/mcnair-mcnair-scholar-program-meeting/
END:VEVENT
BEGIN:VEVENT
DTSTART;TZID=America/New_York:20250212T090000
DTEND;TZID=America/New_York:20250212T100000
DTSTAMP:20260421T031716
CREATED:20250124T190240Z
LAST-MODIFIED:20250124T190925Z
UID:1917-1739350800-1739354400@afc.newark.rutgers.edu
SUMMARY:GSLSAMP MANDATORY February Meeting
DESCRIPTION:Location Room TBA \nLearn about: \n\nSecuring summer experiences ($$$)\nCareer and networking\nMentors – how do they empower and how to find them\n\nSpecial Speaker: Faculty Mentor (TBD)
URL:https://afc.newark.rutgers.edu/event/gslsamp-mandatory-february-meeting/
CATEGORIES:Mentroing,Panel,Town Hall
END:VEVENT
BEGIN:VEVENT
DTSTART;TZID=America/New_York:20250205T143000
DTEND;TZID=America/New_York:20250205T160000
DTSTAMP:20260421T031716
CREATED:20250123T224302Z
LAST-MODIFIED:20250123T224302Z
UID:1900-1738765800-1738771200@afc.newark.rutgers.edu
SUMMARY:Career Fair Ready: Your BRAND
DESCRIPTION:Join us and Career Resources and Exploration \nPrepare for IMPACTFUL visits to the RU-N and RU-NB Career Fairs \nCreate a plan for networking outreach and success. \nREGISTER
URL:https://afc.newark.rutgers.edu/event/career-fair-ready-your-brand/
LOCATION:Warren 311
CATEGORIES:Workshop
ATTACH;FMTTYPE=image/jpeg:https://sites.rutgers.edu/academic-foundations-center/wp-content/uploads/sites/360/2025/01/career-ready-tile-sm.jpg
END:VEVENT
BEGIN:VEVENT
DTSTART;TZID=America/New_York:20250205T143000
DTEND;TZID=America/New_York:20250205T155000
DTSTAMP:20260421T031716
CREATED:20250122T145826Z
LAST-MODIFIED:20250122T145918Z
UID:1851-1738765800-1738770600@afc.newark.rutgers.edu
SUMMARY:EOF - Underclassman Town Hall I
DESCRIPTION:
URL:https://afc.newark.rutgers.edu/event/eof-underclassman-town-hall-i/
LOCATION:Smith 220
CATEGORIES:Town Hall
END:VEVENT
BEGIN:VEVENT
DTSTART;TZID=America/New_York:20250204T090000
DTEND;TZID=America/New_York:20250204T110000
DTSTAMP:20260421T031716
CREATED:20250124T144007Z
LAST-MODIFIED:20250124T153251Z
UID:1904-1738659600-1738666800@afc.newark.rutgers.edu
SUMMARY:Experience Search and Applications
DESCRIPTION:Identify programs\, experience\, internships of interest for summer 2025!\nOR: Identify graduate programs of interest\, apply for employment/scholarship/fellowships.\nREGISTER \n  \nPrepare a work plan. \nLearn/review the do/don’ts of applications. \nReview the personal statement guidelines. \n  \nWhen? 9am-10am (attend part or all)\nWhere? TBA / Zoom hybrid \n(Mind you\, attending in person is proven to be more beneficial)
URL:https://afc.newark.rutgers.edu/event/experience-search-and-applications-3/
CATEGORIES:Workshop
ATTACH;FMTTYPE=image/jpeg:https://sites.rutgers.edu/academic-foundations-center/wp-content/uploads/sites/360/2025/01/2025-Applications-Workshop-tile-sm.jpg
END:VEVENT
BEGIN:VEVENT
DTSTART;TZID=America/New_York:20250203T113000
DTEND;TZID=America/New_York:20250203T125000
DTSTAMP:20260421T031716
CREATED:20250122T145716Z
LAST-MODIFIED:20250122T145716Z
UID:1849-1738582200-1738587000@afc.newark.rutgers.edu
SUMMARY:EOF - Upperclassman Town Hall I
DESCRIPTION:
URL:https://afc.newark.rutgers.edu/event/eof-upperclassman-town-hall-i/
LOCATION:Smith 220
CATEGORIES:Town Hall
END:VEVENT
BEGIN:VEVENT
DTSTART;TZID=America/New_York:20250129T143000
DTEND;TZID=America/New_York:20250129T153000
DTSTAMP:20260421T031716
CREATED:20250122T145408Z
LAST-MODIFIED:20250122T154757Z
UID:1846-1738161000-1738164600@afc.newark.rutgers.edu
SUMMARY:EOF - Brothers United
DESCRIPTION:
URL:https://afc.newark.rutgers.edu/event/eof-brothers-united/
LOCATION:Warren 313
CATEGORIES:Brothers United
ATTACH;FMTTYPE=image/png:https://sites.rutgers.edu/academic-foundations-center/wp-content/uploads/sites/360/2025/01/Brothers-United-2025.png
END:VEVENT
BEGIN:VEVENT
DTSTART;TZID=America/New_York:20250128T090000
DTEND;TZID=America/New_York:20250128T100000
DTSTAMP:20260421T031716
CREATED:20250102T222002Z
LAST-MODIFIED:20250110T182042Z
UID:1803-1738054800-1738058400@afc.newark.rutgers.edu
SUMMARY:GSLSAMP MANDATORY January Meeting
DESCRIPTION:Location Room 311 of Warren Building (110 Warren ST). \nLearn about: \n\nCampus Resources\nEvents and Workshops\nOpportunities: Professional and Academic ($$$$)\n\nSpecial Speaker: Counseling Service – resources and self care. \nNetwork and connect
URL:https://afc.newark.rutgers.edu/event/gslsamp-mandatory-january-meeting/
CATEGORIES:Town Hall
ATTACH;FMTTYPE=image/jpeg:https://sites.rutgers.edu/academic-foundations-center/wp-content/uploads/sites/360/2025/01/LSAMP-Jan-25-meeting-tile-sm.jpg
END:VEVENT
BEGIN:VEVENT
DTSTART;TZID=America/New_York:20250127T113000
DTEND;TZID=America/New_York:20250127T130000
DTSTAMP:20260421T031716
CREATED:20250102T222751Z
LAST-MODIFIED:20250121T212322Z
UID:1805-1737977400-1737982800@afc.newark.rutgers.edu
SUMMARY:Spring semester Academic Resources and Time Management Workshop
DESCRIPTION:REGISTER to join us in the RU-N Learning Center (Room 140\, 110 Warren St) \nLearn about: \n\nAcademic support resources\nStudy and Academic best practices\nMaking the most of office hours and recitation\n\nCreate: \n\nA semester work plan\nTime management plan\n\nPractice: \n\nOrganization skills\nTime management strategies
URL:https://afc.newark.rutgers.edu/event/spring-semester-academic-resources-and-time-management-workshop/
LOCATION:Learning Center\, 110 Warren Street\, Newark\, NJ\, 07102\, United States
CATEGORIES:Workshop
ATTACH;FMTTYPE=image/jpeg:https://sites.rutgers.edu/academic-foundations-center/wp-content/uploads/sites/360/2025/01/Resources-Workshop-Tile-sm.jpg
END:VEVENT
BEGIN:VEVENT
DTSTART;TZID=UTC:20250122T090000
DTEND;TZID=UTC:20250122T110000
DTSTAMP:20260421T031716
CREATED:20250103T160116Z
LAST-MODIFIED:20250106T193238Z
UID:1821-1737536400-1737543600@afc.newark.rutgers.edu
SUMMARY:Experience Search and Applications
DESCRIPTION:Identify programs\, experience\, internships of interest for summer 2025!\nOR: Identify graduate programs of interest\, apply for employment/scholarship/fellowships.\nREGISTER \n  \nPrepare a work plan. \nLearn/review the do/don’ts of applications. \nReview the personal statement guidelines. \n  \nWhen? 19am-10am (attend part or all)\nWhere? TBA / Zoom hybrid \n(Mind you\, attending in person is proven to be more beneficial)
URL:https://afc.newark.rutgers.edu/event/experience-search-and-applications-2/
CATEGORIES:Workshop
END:VEVENT
BEGIN:VEVENT
DTSTART;TZID=America/New_York:20250115T100000
DTEND;TZID=America/New_York:20250115T120000
DTSTAMP:20260421T031716
CREATED:20250102T220824Z
LAST-MODIFIED:20250110T155044Z
UID:1798-1736935200-1736942400@afc.newark.rutgers.edu
SUMMARY:Goals Workshop - GS-LSAMP Plan For Success Workshop
DESCRIPTION:REGISTER (ZOOM OR IN PERSON) \n\nIdentify your goals\nCreate outcomes you seek for the coming year.\nCreate an actionable plan for reaching your goals\, academically and professionally.\nAdvance yourself towards your post graduation aspirations!\n\nHeld in hybrid format in person and on Zoom.
URL:https://afc.newark.rutgers.edu/event/1798/
CATEGORIES:Workshop
ATTACH;FMTTYPE=image/jpeg:https://sites.rutgers.edu/academic-foundations-center/wp-content/uploads/sites/360/2025/01/goals-tile-small-jan-25-1.jpg
END:VEVENT
BEGIN:VEVENT
DTSTART;TZID=America/New_York:20250113T100000
DTEND;TZID=America/New_York:20250113T120000
DTSTAMP:20260421T031716
CREATED:20250102T220603Z
LAST-MODIFIED:20250109T185300Z
UID:1795-1736762400-1736769600@afc.newark.rutgers.edu
SUMMARY:Goals Workshop - GS-LSAMP Plan For Success Workshop
DESCRIPTION:REGISTER (ZOOM OR IN PERSON) \n\nIdentify your goals\nCreate outcomes you seek for the coming year.\nCreate an actionable plan for reaching your goals\, academically and professionally.\nAdvance yourself towards your post graduation aspirations!\n\nHeld in hybrid format in person and on Zoom.
URL:https://afc.newark.rutgers.edu/event/goals-workshop-gs-lsamp-plan-for-success-workshop/
CATEGORIES:Workshop
ATTACH;FMTTYPE=image/jpeg:https://sites.rutgers.edu/academic-foundations-center/wp-content/uploads/sites/360/2025/01/goals-tile-small-jan-25-1.jpg
END:VEVENT
BEGIN:VEVENT
DTSTART;TZID=UTC:20250109T100000
DTEND;TZID=UTC:20250109T120000
DTSTAMP:20260421T031716
CREATED:20250102T221626Z
LAST-MODIFIED:20250106T193326Z
UID:1800-1736416800-1736424000@afc.newark.rutgers.edu
SUMMARY:Experience Search and Applications
DESCRIPTION:Identify programs\, experience\, internships of interest for summer 2025!\nOR: Identify graduate programs of interest\, apply for employment/scholarship/fellowships.\nREGISTER \n  \nPrepare a work plan. \nLearn/review the do/don’ts of applications. \nReview the personal statement guidelines. \n  \nWhen? 10am-12pm\nWhere? Hill 125 / Zoom hybrid \n(Mind you\, attending in person is proven to be more beneficial)
URL:https://afc.newark.rutgers.edu/event/experience-search-and-applications/
CATEGORIES:Workshop
END:VEVENT
BEGIN:VEVENT
DTSTART;TZID=UTC:20241203T120000
DTEND;TZID=UTC:20241203T160000
DTSTAMP:20260421T031716
CREATED:20241105T204708Z
LAST-MODIFIED:20250305T201955Z
UID:1785-1733227200-1733241600@afc.newark.rutgers.edu
SUMMARY:EOF - Student Reunion!
DESCRIPTION:
URL:https://afc.newark.rutgers.edu/event/eof-student-reunion/
LOCATION:PRCC Essex Room
END:VEVENT
BEGIN:VEVENT
DTSTART;TZID=America/New_York:20241202T113000
DTEND;TZID=America/New_York:20241202T125000
DTSTAMP:20260421T031716
CREATED:20241025T214119Z
LAST-MODIFIED:20241105T160603Z
UID:1772-1733139000-1733143800@afc.newark.rutgers.edu
SUMMARY:GS-LSAMP's NewGEO Graduate Student Panel
DESCRIPTION:A panel of STEM graduate students from NewGEO attending Rutgers Newark \nWill address: \n\nTips for applying to graduate programs\nReflection on the graduate school experience\nQuestions about graduate research and finding the right mentor\n\nPrepare your questions ahead of time to get the most out of this\, MORE DETAIL AND QUESTION SUBMISSION FORM COMING SOON.
URL:https://afc.newark.rutgers.edu/event/gs-lsamps-newgeo-graduate-student-panel/
ATTACH;FMTTYPE=image/jpeg:https://sites.rutgers.edu/academic-foundations-center/wp-content/uploads/sites/360/2024/10/NewGEO-Tile.jpg
END:VEVENT
BEGIN:VEVENT
DTSTART;TZID=America/New_York:20241120T143000
DTEND;TZID=America/New_York:20241120T155000
DTSTAMP:20260421T031716
CREATED:20241024T212903Z
LAST-MODIFIED:20241024T212903Z
UID:1767-1732113000-1732117800@afc.newark.rutgers.edu
SUMMARY:GS-LSAMP November Meeting
DESCRIPTION:Meet STEM Scholars among your peers. \nGuest Speaker TBA \nScholar Colleague’s STEM Work presented \n  \nRSVP
URL:https://afc.newark.rutgers.edu/event/gs-lsamp-november-meeting-2/
LOCATION:Boyden Hall Room 413
ATTACH;FMTTYPE=image/jpeg:https://sites.rutgers.edu/academic-foundations-center/wp-content/uploads/sites/360/2024/10/nov-meeting-tile-sm.jpg
END:VEVENT
BEGIN:VEVENT
DTSTART;TZID=UTC:20241114T140000
DTEND;TZID=UTC:20241114T153000
DTSTAMP:20260421T031716
CREATED:20241105T204123Z
LAST-MODIFIED:20250305T201949Z
UID:1780-1731592800-1731598200@afc.newark.rutgers.edu
SUMMARY:EOF - Brother's United Men's Chat
DESCRIPTION:
URL:https://afc.newark.rutgers.edu/event/eof-brothers-united-mens-chat/
LOCATION:Conklin 237
CATEGORIES:MALES
ATTACH;FMTTYPE=image/png:https://sites.rutgers.edu/academic-foundations-center/wp-content/uploads/sites/360/2024/11/BU-Mens-Chat.png
END:VEVENT
BEGIN:VEVENT
DTSTART;TZID=America/New_York:20241113T143000
DTEND;TZID=America/New_York:20241113T160000
DTSTAMP:20260421T031716
CREATED:20240916T203259Z
LAST-MODIFIED:20250305T201942Z
UID:1729-1731508200-1731513600@afc.newark.rutgers.edu
SUMMARY:EOF - CRE: Internship Search
DESCRIPTION:
URL:https://afc.newark.rutgers.edu/event/eof-cre-internship-search/
LOCATION:Hill Hall 126
CATEGORIES:EOF Event
ATTACH;FMTTYPE=image/png:https://sites.rutgers.edu/academic-foundations-center/wp-content/uploads/sites/360/2024/09/On-the-Hunt-w-CRE.png
END:VEVENT
BEGIN:VEVENT
DTSTART;TZID=America/New_York:20241108T080000
DTEND;TZID=America/New_York:20241108T080000
DTSTAMP:20260421T031716
CREATED:20241023T161823Z
LAST-MODIFIED:20241024T195044Z
UID:1762-1731052800-1731052800@afc.newark.rutgers.edu
SUMMARY:GS-LSAMP / NNJ-B2B STEM Conference
DESCRIPTION:Join us to celebrate students scholarly work \nGraduate Schools Fair \nGraduate School Talks \nSTEM Recruiters \nREGISTER HERE \nTRANSPORTATION PROVIDED\nBreakfast/Lunch included.
URL:https://afc.newark.rutgers.edu/event/gs-lsamp-nnj-b2b-stem-conference/
LOCATION:Students Center: 126 College Avenu\, New Bruswick\, 126 College Avenu\, New Brunswick\, NJ\, United States
ATTACH;FMTTYPE=image/jpeg:https://sites.rutgers.edu/academic-foundations-center/wp-content/uploads/sites/360/2024/10/16th-tile-sm.jpg
END:VEVENT
BEGIN:VEVENT
DTSTART;TZID=UTC:20241106T141500
DTEND;TZID=UTC:20241106T155000
DTSTAMP:20260421T031716
CREATED:20241105T204357Z
LAST-MODIFIED:20250305T201933Z
UID:1782-1730902500-1730908200@afc.newark.rutgers.edu
SUMMARY:EOF - Career Couture: Dressing for the Future
DESCRIPTION:
URL:https://afc.newark.rutgers.edu/event/eof-career-couture-dressing-for-the-future/
LOCATION:Haynes 213
END:VEVENT
BEGIN:VEVENT
DTSTART;TZID=America/New_York:20241030T143000
DTEND;TZID=America/New_York:20241030T160000
DTSTAMP:20260421T031716
CREATED:20240916T203136Z
LAST-MODIFIED:20250305T201926Z
UID:1727-1730298600-1730304000@afc.newark.rutgers.edu
SUMMARY:EOF - Town Hall II Upperclassmen
DESCRIPTION:https://rutgers.zoom.us/meeting/register/tJcqceuorz4pH9T4snqx5YSAGfUknh6_jBIj
URL:https://afc.newark.rutgers.edu/event/eof-town-hall-ii-upperclassmen/
LOCATION:Virtual
CATEGORIES:EOF Event
END:VEVENT
BEGIN:VEVENT
DTSTART;TZID=America/New_York:20241028T113000
DTEND;TZID=America/New_York:20241028T125000
DTSTAMP:20260421T031716
CREATED:20240916T202928Z
LAST-MODIFIED:20250305T201918Z
UID:1725-1730115000-1730119800@afc.newark.rutgers.edu
SUMMARY:EOF - Town Hall II Underclassman ~  Finding & Maintaining Purpose: Alfred Blake
DESCRIPTION:https://rutgers.zoom.us/meeting/register/tJ0tc-6tqzsuHNBVbtszCfb48IHq52QOLT3T
URL:https://afc.newark.rutgers.edu/event/eof-town-hall-ii-underclassman-finding-maintaining-purpose-alfred-blake/
LOCATION:Virtual
CATEGORIES:EOF Event
END:VEVENT
BEGIN:VEVENT
DTSTART;TZID=America/New_York:20240925T143000
DTEND;TZID=America/New_York:20240925T160000
DTSTAMP:20260421T031716
CREATED:20240916T202454Z
LAST-MODIFIED:20250305T201909Z
UID:1722-1727274600-1727280000@afc.newark.rutgers.edu
SUMMARY:EOF - Town Hall 1 Underclassman ~ Study Abroad & Global Initiatives
DESCRIPTION:
URL:https://afc.newark.rutgers.edu/event/eof-town-hall-1-underclassman-study-abroad-global-initiatives/
LOCATION:Ackerson 123
CATEGORIES:EOF Event
END:VEVENT
BEGIN:VEVENT
DTSTART;TZID=America/New_York:20240925T140000
DTEND;TZID=America/New_York:20240925T150000
DTSTAMP:20260421T031716
CREATED:20240924T145857Z
LAST-MODIFIED:20250305T201902Z
UID:1744-1727272800-1727276400@afc.newark.rutgers.edu
SUMMARY:XAE - Informational Session I
DESCRIPTION:
URL:https://afc.newark.rutgers.edu/event/xae-informational-session-i/
LOCATION:110 Warren Street\, Room 148\, 110 Warren Street\, Newark\, NJ\, 07102\, United States
CATEGORIES:XAE
END:VEVENT
BEGIN:VEVENT
DTSTART;TZID=America/New_York:20240925T090000
DTEND;TZID=America/New_York:20240925T103000
DTSTAMP:20260421T031716
CREATED:20240814T155551Z
LAST-MODIFIED:20240912T140213Z
UID:1663-1727254800-1727260200@afc.newark.rutgers.edu
SUMMARY:GS-LSAMP YEAR OPENING MEETING
DESCRIPTION:Mandatory 1st meeting for GS-LSAMP Scholars. \nREGISTER + Detail \nGSLSAMP and STEM Club September meeting: \n\nMeet STEM peers.\nLearn about programs and opportunities.\nNetwork\n\n 
URL:https://afc.newark.rutgers.edu/event/gs-lsamp-year-opening-meeting/
ATTACH;FMTTYPE=image/jpeg:https://sites.rutgers.edu/academic-foundations-center/wp-content/uploads/sites/360/2024/08/Sept-meeting-fa24-SM.jpg
END:VEVENT
BEGIN:VEVENT
DTSTART;TZID=America/New_York:20240923T113000
DTEND;TZID=America/New_York:20240923T125000
DTSTAMP:20260421T031716
CREATED:20240916T202307Z
LAST-MODIFIED:20250305T201849Z
UID:1720-1727091000-1727095800@afc.newark.rutgers.edu
SUMMARY:EOF - Town Hall I  Upperclassmen ~ Alumni House
DESCRIPTION:
URL:https://afc.newark.rutgers.edu/event/eof-town-hall-i-upperclassmen-alumni-house/
LOCATION:Smith 220
CATEGORIES:EOF Event
END:VEVENT
BEGIN:VEVENT
DTSTART;TZID=America/New_York:20240923T113000
DTEND;TZID=America/New_York:20240923T125000
DTSTAMP:20260421T031716
CREATED:20240814T155018Z
LAST-MODIFIED:20240918T155116Z
UID:1659-1727091000-1727095800@afc.newark.rutgers.edu
SUMMARY:GS-LSAMP Become a LinkedIn STAR
DESCRIPTION:JOIN US to fortify / create / elevate your LinkedIn account.\nREGISTER \n\n\n\nLearn about networking\nMake LinkedIn WORK FOR YOU! \n->Create a POWERFUL profile \n\n  \n 
URL:https://afc.newark.rutgers.edu/event/gs-lsamp-become-a-linkedin-star/
ATTACH;FMTTYPE=image/jpeg:https://sites.rutgers.edu/academic-foundations-center/wp-content/uploads/sites/360/2024/08/L-I-Star-tile-SM.jpg
END:VEVENT
BEGIN:VEVENT
DTSTART;TZID=America/New_York:20240918T143000
DTEND;TZID=America/New_York:20240918T160000
DTSTAMP:20260421T031716
CREATED:20240916T201949Z
LAST-MODIFIED:20250305T201839Z
UID:1717-1726669800-1726675200@afc.newark.rutgers.edu
SUMMARY:EOF - Career Vision Board Party (Soph/Juniors)
DESCRIPTION:
URL:https://afc.newark.rutgers.edu/event/eof-career-vision-board-party-soph-juniors/
LOCATION:Conklin 449
CATEGORIES:EOF Event
END:VEVENT
BEGIN:VEVENT
DTSTART;TZID=America/New_York:20240916T113000
DTEND;TZID=America/New_York:20240916T125000
DTSTAMP:20260421T031716
CREATED:20240912T150705Z
LAST-MODIFIED:20240913T143842Z
UID:1701-1726486200-1726491000@afc.newark.rutgers.edu
SUMMARY:GS-LSAMP Academic Resources & Time Management Plan
DESCRIPTION:Take the semester by the horns: \n\nLearn about the resources for success offered on campus.\nLearn time management and\n\nprepare your work plan.\n\n\n\nREGISTER \n  \n \n 
URL:https://afc.newark.rutgers.edu/event/gs-lsamp-academic-resources-time-management-plan-2/
ATTACH;FMTTYPE=image/jpeg:https://sites.rutgers.edu/academic-foundations-center/wp-content/uploads/sites/360/2024/09/Resources-Workshop-Tile-SM.jpg
END:VEVENT
END:VCALENDAR