BEGIN:VCALENDAR
VERSION:2.0
PRODID:-//Academic Foundations Center - ECPv6.7.0//NONSGML v1.0//EN
CALSCALE:GREGORIAN
METHOD:PUBLISH
X-ORIGINAL-URL:https://afc.newark.rutgers.edu
X-WR-CALDESC:Events for Academic Foundations Center
REFRESH-INTERVAL;VALUE=DURATION:PT1H
X-Robots-Tag:noindex
X-PUBLISHED-TTL:PT1H
BEGIN:VTIMEZONE
TZID:America/New_York
BEGIN:DAYLIGHT
TZOFFSETFROM:-0500
TZOFFSETTO:-0400
TZNAME:EDT
DTSTART:20240310T070000
END:DAYLIGHT
BEGIN:STANDARD
TZOFFSETFROM:-0400
TZOFFSETTO:-0500
TZNAME:EST
DTSTART:20241103T060000
END:STANDARD
END:VTIMEZONE
BEGIN:VEVENT
DTSTART;TZID=America/New_York:20240925T140000
DTEND;TZID=America/New_York:20240925T150000
DTSTAMP:20260421T025829
CREATED:20240924T145857Z
LAST-MODIFIED:20250305T201902Z
UID:1744-1727272800-1727276400@afc.newark.rutgers.edu
SUMMARY:XAE - Informational Session I
DESCRIPTION:
URL:https://afc.newark.rutgers.edu/event/xae-informational-session-i/
LOCATION:110 Warren Street\, Room 148\, 110 Warren Street\, Newark\, NJ\, 07102\, United States
CATEGORIES:XAE
END:VEVENT
END:VCALENDAR