BEGIN:VCALENDAR
VERSION:2.0
PRODID:-//Academic Foundations Center - ECPv6.7.0//NONSGML v1.0//EN
CALSCALE:GREGORIAN
METHOD:PUBLISH
X-WR-CALNAME:Academic Foundations Center
X-ORIGINAL-URL:https://afc.newark.rutgers.edu
X-WR-CALDESC:Events for Academic Foundations Center
REFRESH-INTERVAL;VALUE=DURATION:PT1H
X-Robots-Tag:noindex
X-PUBLISHED-TTL:PT1H
BEGIN:VTIMEZONE
TZID:America/New_York
BEGIN:DAYLIGHT
TZOFFSETFROM:-0500
TZOFFSETTO:-0400
TZNAME:EDT
DTSTART:20250309T070000
END:DAYLIGHT
BEGIN:STANDARD
TZOFFSETFROM:-0400
TZOFFSETTO:-0500
TZNAME:EST
DTSTART:20251102T060000
END:STANDARD
END:VTIMEZONE
BEGIN:VEVENT
DTSTART;TZID=America/New_York:20250219T143000
DTEND;TZID=America/New_York:20250219T160000
DTSTAMP:20260421T150617
CREATED:20250124T191201Z
LAST-MODIFIED:20250204T155235Z
UID:1921-1739975400-1739980800@afc.newark.rutgers.edu
SUMMARY:GS-LSAMP Become a LinkedIn STAR: Career Fair Edition
DESCRIPTION:JOIN US to fortify / create / elevate your LinkedIn account.\n  \nLearn about networking\nMake LinkedIn WORK FOR YOU! \n                             ->Create a POWERFUL profile
URL:https://afc.newark.rutgers.edu/event/gs-lsamp-become-a-linkedin-star-career-fair-edition/
LOCATION:Hill Hall 126
CATEGORIES:Workshop
ATTACH;FMTTYPE=image/jpeg:https://sites.rutgers.edu/academic-foundations-center/wp-content/uploads/sites/360/2025/01/LinkedIn-Star-Tile.jpg
END:VEVENT
END:VCALENDAR