BEGIN:VCALENDAR
VERSION:2.0
PRODID:-//Academic Foundations Center - ECPv6.7.0//NONSGML v1.0//EN
CALSCALE:GREGORIAN
METHOD:PUBLISH
X-WR-CALNAME:Academic Foundations Center
X-ORIGINAL-URL:https://afc.newark.rutgers.edu
X-WR-CALDESC:Events for Academic Foundations Center
REFRESH-INTERVAL;VALUE=DURATION:PT1H
X-Robots-Tag:noindex
X-PUBLISHED-TTL:PT1H
BEGIN:VTIMEZONE
TZID:UTC
BEGIN:STANDARD
TZOFFSETFROM:+0000
TZOFFSETTO:+0000
TZNAME:UTC
DTSTART:20230101T000000
END:STANDARD
END:VTIMEZONE
BEGIN:VEVENT
DTSTART;TZID=UTC:20230925T113000
DTEND;TZID=UTC:20230925T125000
DTSTAMP:20260422T071559
CREATED:20230911T044403Z
LAST-MODIFIED:20240214T164615Z
UID:1115-1695641400-1695646200@afc.newark.rutgers.edu
SUMMARY:Declaring Major/Minor Workshop
DESCRIPTION:https://rutgers.zoom.us/meeting/register/tJEpf-msqzkrGdSF2F1wbnbePZn-1Lur7ise
URL:https://afc.newark.rutgers.edu/event/declaring-major-minor-workshop/
LOCATION:Virtual
CATEGORIES:Workshop
END:VEVENT
END:VCALENDAR