BEGIN:VCALENDAR
VERSION:2.0
PRODID:-//Academic Foundations Center - ECPv6.7.0//NONSGML v1.0//EN
CALSCALE:GREGORIAN
METHOD:PUBLISH
X-WR-CALNAME:Academic Foundations Center
X-ORIGINAL-URL:https://afc.newark.rutgers.edu
X-WR-CALDESC:Events for Academic Foundations Center
REFRESH-INTERVAL;VALUE=DURATION:PT1H
X-Robots-Tag:noindex
X-PUBLISHED-TTL:PT1H
BEGIN:VTIMEZONE
TZID:UTC
BEGIN:STANDARD
TZOFFSETFROM:+0000
TZOFFSETTO:+0000
TZNAME:UTC
DTSTART:20250101T000000
END:STANDARD
END:VTIMEZONE
BEGIN:VEVENT
DTSTART;TZID=UTC:20250303T113000
DTEND;TZID=UTC:20250303T130000
DTSTAMP:20260424T211104
CREATED:20250124T190711Z
LAST-MODIFIED:20250124T190711Z
UID:1919-1741001400-1741006800@afc.newark.rutgers.edu
SUMMARY:GSLSAMP MANDATORY March Meeting
DESCRIPTION:Location TBD \nJoin us for news and updates \nAND A STEM GRADUATES’ PANEL: \nCareers in STEM & What I wish I knew as an undergraduate.
URL:https://afc.newark.rutgers.edu/event/gslsamp-mandatory-march-meeting/
CATEGORIES:Discussion,Town Hall
END:VEVENT
END:VCALENDAR