BEGIN:VCALENDAR
VERSION:2.0
PRODID:-//Academic Foundations Center - ECPv6.7.0//NONSGML v1.0//EN
CALSCALE:GREGORIAN
METHOD:PUBLISH
X-ORIGINAL-URL:https://afc.newark.rutgers.edu
X-WR-CALDESC:Events for Academic Foundations Center
REFRESH-INTERVAL;VALUE=DURATION:PT1H
X-Robots-Tag:noindex
X-PUBLISHED-TTL:PT1H
BEGIN:VTIMEZONE
TZID:America/New_York
BEGIN:DAYLIGHT
TZOFFSETFROM:-0500
TZOFFSETTO:-0400
TZNAME:EDT
DTSTART:20250309T070000
END:DAYLIGHT
BEGIN:STANDARD
TZOFFSETFROM:-0400
TZOFFSETTO:-0500
TZNAME:EST
DTSTART:20251102T060000
END:STANDARD
END:VTIMEZONE
BEGIN:VEVENT
DTSTART;TZID=America/New_York:20250113T100000
DTEND;TZID=America/New_York:20250113T120000
DTSTAMP:20260422T124830
CREATED:20250102T220603Z
LAST-MODIFIED:20250109T185300Z
UID:1795-1736762400-1736769600@afc.newark.rutgers.edu
SUMMARY:Goals Workshop - GS-LSAMP Plan For Success Workshop
DESCRIPTION:REGISTER (ZOOM OR IN PERSON) \n\nIdentify your goals\nCreate outcomes you seek for the coming year.\nCreate an actionable plan for reaching your goals\, academically and professionally.\nAdvance yourself towards your post graduation aspirations!\n\nHeld in hybrid format in person and on Zoom.
URL:https://afc.newark.rutgers.edu/event/goals-workshop-gs-lsamp-plan-for-success-workshop/
CATEGORIES:Workshop
ATTACH;FMTTYPE=image/jpeg:https://sites.rutgers.edu/academic-foundations-center/wp-content/uploads/sites/360/2025/01/goals-tile-small-jan-25-1.jpg
END:VEVENT
END:VCALENDAR